BEGIN:VCALENDAR
VERSION:2.0
PRODID:-//Your Exhibition Partner - ECPv6.15.19//NONSGML v1.0//EN
CALSCALE:GREGORIAN
METHOD:PUBLISH
X-WR-CALNAME:Your Exhibition Partner
X-ORIGINAL-URL:https://fatahexhibit.com
X-WR-CALDESC:Events for Your Exhibition Partner
REFRESH-INTERVAL;VALUE=DURATION:PT1H
X-Robots-Tag:noindex
X-PUBLISHED-TTL:PT1H
BEGIN:VTIMEZONE
TZID:Asia/Qatar
BEGIN:STANDARD
TZOFFSETFROM:+0300
TZOFFSETTO:+0300
TZNAME:+03
DTSTART:20240101T000000
END:STANDARD
END:VTIMEZONE
BEGIN:VEVENT
DTSTART;VALUE=DATE:20250203
DTEND;VALUE=DATE:20250207
DTSTAMP:20260424T062756
CREATED:20250127T083256Z
LAST-MODIFIED:20250127T083256Z
UID:600-1738540800-1738886399@fatahexhibit.com
SUMMARY:Medlab Exhibitions & Conference
DESCRIPTION:
URL:https://fatahexhibit.com/event/medlab-exhibitions-conference/
END:VEVENT
BEGIN:VEVENT
DTSTART;VALUE=DATE:20250204
DTEND;VALUE=DATE:20250207
DTSTAMP:20260424T062756
CREATED:20250127T083334Z
LAST-MODIFIED:20250127T083334Z
UID:602-1738627200-1738886399@fatahexhibit.com
SUMMARY:UAE International Dental Conference and Arab Dental Exhibition - AEEDC Dubai
DESCRIPTION:
URL:https://fatahexhibit.com/event/uae-international-dental-conference-and-arab-dental-exhibition-aeedc-dubai/
END:VEVENT
END:VCALENDAR