BEGIN:VCALENDAR
VERSION:2.0
PRODID:-//Your Exhibition Partner - ECPv6.15.19//NONSGML v1.0//EN
CALSCALE:GREGORIAN
METHOD:PUBLISH
X-WR-CALNAME:Your Exhibition Partner
X-ORIGINAL-URL:https://fatahexhibit.com
X-WR-CALDESC:Events for Your Exhibition Partner
REFRESH-INTERVAL;VALUE=DURATION:PT1H
X-Robots-Tag:noindex
X-PUBLISHED-TTL:PT1H
BEGIN:VTIMEZONE
TZID:Asia/Qatar
BEGIN:STANDARD
TZOFFSETFROM:+0300
TZOFFSETTO:+0300
TZNAME:+03
DTSTART:20240101T000000
END:STANDARD
END:VTIMEZONE
BEGIN:VEVENT
DTSTART;VALUE=DATE:20250208
DTEND;VALUE=DATE:20250211
DTSTAMP:20260424T062838
CREATED:20250127T083422Z
LAST-MODIFIED:20250127T083422Z
UID:604-1738972800-1739231999@fatahexhibit.com
SUMMARY:EDEC - Emirates Diabetes and Endocrinology Congress 2025
DESCRIPTION:
URL:https://fatahexhibit.com/event/edec-emirates-diabetes-and-endocrinology-congress-2025/
END:VEVENT
END:VCALENDAR