BEGIN:VCALENDAR
VERSION:2.0
PRODID:-//Your Exhibition Partner - ECPv6.15.19//NONSGML v1.0//EN
CALSCALE:GREGORIAN
METHOD:PUBLISH
X-WR-CALNAME:Your Exhibition Partner
X-ORIGINAL-URL:https://fatahexhibit.com
X-WR-CALDESC:Events for Your Exhibition Partner
REFRESH-INTERVAL;VALUE=DURATION:PT1H
X-Robots-Tag:noindex
X-PUBLISHED-TTL:PT1H
BEGIN:VTIMEZONE
TZID:Asia/Qatar
BEGIN:STANDARD
TZOFFSETFROM:+0300
TZOFFSETTO:+0300
TZNAME:+03
DTSTART:20240101T000000
END:STANDARD
END:VTIMEZONE
BEGIN:VEVENT
DTSTART;VALUE=DATE:20250208
DTEND;VALUE=DATE:20250211
DTSTAMP:20260424T062754
CREATED:20250127T083422Z
LAST-MODIFIED:20250127T083422Z
UID:604-1738972800-1739231999@fatahexhibit.com
SUMMARY:EDEC - Emirates Diabetes and Endocrinology Congress 2025
DESCRIPTION:
URL:https://fatahexhibit.com/event/edec-emirates-diabetes-and-endocrinology-congress-2025/
END:VEVENT
BEGIN:VEVENT
DTSTART;VALUE=DATE:20250210
DTEND;VALUE=DATE:20250212
DTSTAMP:20260424T062754
CREATED:20250127T083506Z
LAST-MODIFIED:20250127T120641Z
UID:606-1739145600-1739318399@fatahexhibit.com
SUMMARY:Breakbulk Middle East
DESCRIPTION:
URL:https://fatahexhibit.com/event/breakbulk-middle-east/
END:VEVENT
BEGIN:VEVENT
DTSTART;VALUE=DATE:20250210
DTEND;VALUE=DATE:20250213
DTSTAMP:20260424T062754
CREATED:20250127T083546Z
LAST-MODIFIED:20250127T083546Z
UID:608-1739145600-1739404799@fatahexhibit.com
SUMMARY:Japan Kyoto Trade Exhibition
DESCRIPTION:
URL:https://fatahexhibit.com/event/japan-kyoto-trade-exhibition/
END:VEVENT
BEGIN:VEVENT
DTSTART;VALUE=DATE:20250210
DTEND;VALUE=DATE:20250213
DTSTAMP:20260424T062754
CREATED:20250127T083617Z
LAST-MODIFIED:20250127T083617Z
UID:610-1739145600-1739404799@fatahexhibit.com
SUMMARY:World of Coffee Dubai
DESCRIPTION:
URL:https://fatahexhibit.com/event/world-of-coffee-dubai/
END:VEVENT
BEGIN:VEVENT
DTSTART;VALUE=DATE:20250210
DTEND;VALUE=DATE:20250213
DTSTAMP:20260424T062754
CREATED:20250127T083648Z
LAST-MODIFIED:20250127T083648Z
UID:612-1739145600-1739404799@fatahexhibit.com
SUMMARY:Aircraft Interiors Middle East (AIME) & Maintenance\, Repair and Overhaul
DESCRIPTION:
URL:https://fatahexhibit.com/event/aircraft-interiors-middle-east-aime-maintenance-repair-and-overhaul/
END:VEVENT
END:VCALENDAR