BEGIN:VCALENDAR
VERSION:2.0
PRODID:-//Your Exhibition Partner - ECPv6.15.19//NONSGML v1.0//EN
CALSCALE:GREGORIAN
METHOD:PUBLISH
X-WR-CALNAME:Your Exhibition Partner
X-ORIGINAL-URL:https://fatahexhibit.com
X-WR-CALDESC:Events for Your Exhibition Partner
REFRESH-INTERVAL;VALUE=DURATION:PT1H
X-Robots-Tag:noindex
X-PUBLISHED-TTL:PT1H
BEGIN:VTIMEZONE
TZID:Asia/Qatar
BEGIN:STANDARD
TZOFFSETFROM:+0300
TZOFFSETTO:+0300
TZNAME:+03
DTSTART:20240101T000000
END:STANDARD
END:VTIMEZONE
BEGIN:VEVENT
DTSTART;VALUE=DATE:20250527
DTEND;VALUE=DATE:20250530
DTSTAMP:20260423T232946
CREATED:20250127T094654Z
LAST-MODIFIED:20250127T094654Z
UID:697-1748304000-1748563199@fatahexhibit.com
SUMMARY:The Hotel Show
DESCRIPTION:
URL:https://fatahexhibit.com/event/the-hotel-show/
END:VEVENT
BEGIN:VEVENT
DTSTART;VALUE=DATE:20250527
DTEND;VALUE=DATE:20250531
DTSTAMP:20260423T232946
CREATED:20250127T094618Z
LAST-MODIFIED:20250127T094618Z
UID:695-1748304000-1748649599@fatahexhibit.com
SUMMARY:Index Exhibition
DESCRIPTION:
URL:https://fatahexhibit.com/event/index-exhibition/
END:VEVENT
END:VCALENDAR