BEGIN:VCALENDAR
VERSION:2.0
PRODID:-//Your Exhibition Partner - ECPv6.15.19//NONSGML v1.0//EN
CALSCALE:GREGORIAN
METHOD:PUBLISH
X-ORIGINAL-URL:https://fatahexhibit.com
X-WR-CALDESC:Events for Your Exhibition Partner
REFRESH-INTERVAL;VALUE=DURATION:PT1H
X-Robots-Tag:noindex
X-PUBLISHED-TTL:PT1H
BEGIN:VTIMEZONE
TZID:Asia/Qatar
BEGIN:STANDARD
TZOFFSETFROM:+0300
TZOFFSETTO:+0300
TZNAME:+03
DTSTART:20240101T000000
END:STANDARD
END:VTIMEZONE
BEGIN:VEVENT
DTSTART;VALUE=DATE:20250923
DTEND;VALUE=DATE:20250926
DTSTAMP:20260421T152018
CREATED:20250127T105418Z
LAST-MODIFIED:20250127T105418Z
UID:743-1758585600-1758844799@fatahexhibit.com
SUMMARY:Ru'ya (Careers UAE)
DESCRIPTION:
URL:https://fatahexhibit.com/event/ruya-careers-uae/
END:VEVENT
BEGIN:VEVENT
DTSTART;VALUE=DATE:20250923
DTEND;VALUE=DATE:20250926
DTSTAMP:20260421T152018
CREATED:20250127T105452Z
LAST-MODIFIED:20250127T105452Z
UID:745-1758585600-1758844799@fatahexhibit.com
SUMMARY:ArabLab +
DESCRIPTION:
URL:https://fatahexhibit.com/event/arablab/
END:VEVENT
BEGIN:VEVENT
DTSTART;VALUE=DATE:20250924
DTEND;VALUE=DATE:20250926
DTSTAMP:20260421T152018
CREATED:20250127T105536Z
LAST-MODIFIED:20250127T105536Z
UID:747-1758672000-1758844799@fatahexhibit.com
SUMMARY:Dubai Congress for Self-Driving Transport 2025
DESCRIPTION:
URL:https://fatahexhibit.com/event/dubai-congress-for-self-driving-transport-2025/
END:VEVENT
BEGIN:VEVENT
DTSTART;VALUE=DATE:20250925
DTEND;VALUE=DATE:20250928
DTSTAMP:20260421T152018
CREATED:20250127T113932Z
LAST-MODIFIED:20250127T113932Z
UID:749-1758758400-1759017599@fatahexhibit.com
SUMMARY:MEIDAM 2025 - 10th International Congress of Medical Excellence in Dermatology & Aesthetic Medicine
DESCRIPTION:
URL:https://fatahexhibit.com/event/meidam-2025-10th-international-congress-of-medical-excellence-in-dermatology-aesthetic-medicine/
END:VEVENT
END:VCALENDAR