BEGIN:VCALENDAR
VERSION:2.0
PRODID:-//Your Exhibition Partner - ECPv6.15.19//NONSGML v1.0//EN
CALSCALE:GREGORIAN
METHOD:PUBLISH
X-ORIGINAL-URL:https://fatahexhibit.com
X-WR-CALDESC:Events for Your Exhibition Partner
REFRESH-INTERVAL;VALUE=DURATION:PT1H
X-Robots-Tag:noindex
X-PUBLISHED-TTL:PT1H
BEGIN:VTIMEZONE
TZID:Asia/Qatar
BEGIN:STANDARD
TZOFFSETFROM:+0300
TZOFFSETTO:+0300
TZNAME:+03
DTSTART:20240101T000000
END:STANDARD
END:VTIMEZONE
BEGIN:VEVENT
DTSTART;VALUE=DATE:20251021
DTEND;VALUE=DATE:20251024
DTSTAMP:20260421T084905
CREATED:20250127T114613Z
LAST-MODIFIED:20250127T114613Z
UID:769-1761004800-1761263999@fatahexhibit.com
SUMMARY:The International Family Medicine Conference & Exhibition 2025
DESCRIPTION:
URL:https://fatahexhibit.com/event/the-international-family-medicine-conference-exhibition-2025/
END:VEVENT
BEGIN:VEVENT
DTSTART;VALUE=DATE:20251021
DTEND;VALUE=DATE:20251024
DTSTAMP:20260421T084905
CREATED:20250127T114641Z
LAST-MODIFIED:20250127T114641Z
UID:771-1761004800-1761263999@fatahexhibit.com
SUMMARY:Annual Radiology Meeting - ARM 2025
DESCRIPTION:
URL:https://fatahexhibit.com/event/annual-radiology-meeting-arm-2025/
END:VEVENT
BEGIN:VEVENT
DTSTART;VALUE=DATE:20251021
DTEND;VALUE=DATE:20251024
DTSTAMP:20260421T084905
CREATED:20250127T114734Z
LAST-MODIFIED:20250127T114734Z
UID:773-1761004800-1761263999@fatahexhibit.com
SUMMARY:13th Dubai Otology Neurotology and Skull Base Surgery
DESCRIPTION:
URL:https://fatahexhibit.com/event/13th-dubai-otology-neurotology-and-skull-base-surgery/
END:VEVENT
END:VCALENDAR