BEGIN:VCALENDAR
VERSION:2.0
PRODID:-//Your Exhibition Partner - ECPv6.15.19//NONSGML v1.0//EN
CALSCALE:GREGORIAN
METHOD:PUBLISH
X-WR-CALNAME:Your Exhibition Partner
X-ORIGINAL-URL:https://fatahexhibit.com
X-WR-CALDESC:Events for Your Exhibition Partner
REFRESH-INTERVAL;VALUE=DURATION:PT1H
X-Robots-Tag:noindex
X-PUBLISHED-TTL:PT1H
BEGIN:VTIMEZONE
TZID:Asia/Qatar
BEGIN:STANDARD
TZOFFSETFROM:+0300
TZOFFSETTO:+0300
TZNAME:+03
DTSTART:20240101T000000
END:STANDARD
END:VTIMEZONE
BEGIN:VEVENT
DTSTART;VALUE=DATE:20251111
DTEND;VALUE=DATE:20251114
DTSTAMP:20260423T140322
CREATED:20250127T115016Z
LAST-MODIFIED:20250127T115016Z
UID:781-1762819200-1763078399@fatahexhibit.com
SUMMARY:GESS - Global Educational Supplies & Solutions
DESCRIPTION:
URL:https://fatahexhibit.com/event/gess-global-educational-supplies-solutions/
END:VEVENT
BEGIN:VEVENT
DTSTART;VALUE=DATE:20251111
DTEND;VALUE=DATE:20251114
DTSTAMP:20260423T140322
CREATED:20250127T115100Z
LAST-MODIFIED:20250127T115100Z
UID:783-1762819200-1763078399@fatahexhibit.com
SUMMARY:Paperworld Middle East & Gift & Lifestyle Middle East
DESCRIPTION:
URL:https://fatahexhibit.com/event/paperworld-middle-east-gift-lifestyle-middle-east/
END:VEVENT
BEGIN:VEVENT
DTSTART;VALUE=DATE:20251111
DTEND;VALUE=DATE:20251114
DTSTAMP:20260423T140322
CREATED:20250127T115212Z
LAST-MODIFIED:20250127T115212Z
UID:787-1762819200-1763078399@fatahexhibit.com
SUMMARY:Gulf Traffic
DESCRIPTION:
URL:https://fatahexhibit.com/event/gulf-traffic/
END:VEVENT
BEGIN:VEVENT
DTSTART;VALUE=DATE:20251112
DTEND;VALUE=DATE:20251117
DTSTAMP:20260423T140322
CREATED:20250127T115353Z
LAST-MODIFIED:20250127T115353Z
UID:789-1762905600-1763337599@fatahexhibit.com
SUMMARY:ICOM 2025 - 27th International Council of Museums
DESCRIPTION:
URL:https://fatahexhibit.com/event/icom-2025-27th-international-council-of-museums/
END:VEVENT
END:VCALENDAR