BEGIN:VCALENDAR
VERSION:2.0
PRODID:-//Your Exhibition Partner - ECPv6.15.19//NONSGML v1.0//EN
CALSCALE:GREGORIAN
METHOD:PUBLISH
X-WR-CALNAME:Your Exhibition Partner
X-ORIGINAL-URL:https://fatahexhibit.com
X-WR-CALDESC:Events for Your Exhibition Partner
REFRESH-INTERVAL;VALUE=DURATION:PT1H
X-Robots-Tag:noindex
X-PUBLISHED-TTL:PT1H
BEGIN:VTIMEZONE
TZID:Asia/Qatar
BEGIN:STANDARD
TZOFFSETFROM:+0300
TZOFFSETTO:+0300
TZNAME:+03
DTSTART:20240101T000000
END:STANDARD
END:VTIMEZONE
BEGIN:VEVENT
DTSTART;VALUE=DATE:20251117
DTEND;VALUE=DATE:20251120
DTSTAMP:20260421T084723
CREATED:20250127T115511Z
LAST-MODIFIED:20250127T115511Z
UID:793-1763337600-1763596799@fatahexhibit.com
SUMMARY:Middle East Organic and Natural Products Expo
DESCRIPTION:
URL:https://fatahexhibit.com/event/middle-east-organic-and-natural-products-expo/
END:VEVENT
BEGIN:VEVENT
DTSTART;VALUE=DATE:20251117
DTEND;VALUE=DATE:20251120
DTSTAMP:20260421T084723
CREATED:20250127T115544Z
LAST-MODIFIED:20250127T115544Z
UID:795-1763337600-1763596799@fatahexhibit.com
SUMMARY:International Apparel & Textile Fair
DESCRIPTION:
URL:https://fatahexhibit.com/event/international-apparel-textile-fair/
END:VEVENT
END:VCALENDAR