BEGIN:VCALENDAR
VERSION:2.0
PRODID:-//Your Exhibition Partner - ECPv6.15.19//NONSGML v1.0//EN
CALSCALE:GREGORIAN
METHOD:PUBLISH
X-ORIGINAL-URL:https://fatahexhibit.com
X-WR-CALDESC:Events for Your Exhibition Partner
REFRESH-INTERVAL;VALUE=DURATION:PT1H
X-Robots-Tag:noindex
X-PUBLISHED-TTL:PT1H
BEGIN:VTIMEZONE
TZID:Asia/Qatar
BEGIN:STANDARD
TZOFFSETFROM:+0300
TZOFFSETTO:+0300
TZNAME:+03
DTSTART:20250101T000000
END:STANDARD
END:VTIMEZONE
BEGIN:VEVENT
DTSTART;VALUE=DATE:20260817
DTEND;VALUE=DATE:20260821
DTSTAMP:20260415T123519
CREATED:20260326T092445Z
LAST-MODIFIED:20260411T082801Z
UID:1235-1786924800-1787270399@fatahexhibit.com
SUMMARY:Arabian Travel Market Dubai 2026
DESCRIPTION:The upcoming Arabian Travel Market Dubai 2026 is one of the most significant events in the world of travel industry. The event takes place at the well-known Dubai World Trade Centre. It will bring many of the world’s most well-known brands and entrepreneurs from all around the globe. If you are looking to stand out in a highly competitive market\, having a well-designed exhibition stand is essential. Fatah Exhibit is aware of the importance of making a first impression at large-scale occasions. As a trusted exhibition stand builder in Dubai\, we focus on constructing creative and practical exhibits that reflect each brand. \nFrom the beginning of the concept to the finalisation\, every element is carefully planned. This ensures that your display attracts the attention of those who see it. The participation in the Arabian Travel Market Dubai 2026 is much more than just a display of services or products. It’s about making a significant connection. A well-designed booth will help you convey your message clearly. It offers unforgettable experiences and makes a lasting impression on potential customers. \nFatah Exhibit combines creativity with technological know-how and expertise to offer seamless solutions for exhibits. If you require a custom-designed display or a modular layout\, the team at HTML0 collaborates closely with you to comprehend the goals you’ve set and bring your vision to life. As the date of the event is getting closer as the date for the show is advancing\, it is the ideal moment to start planning the event’s participation. With the assistance of an experienced display stand design expert in Dubai\, your company will be a shining star at some of the largest and most sought-after travel events throughout the world.
URL:https://fatahexhibit.com/event/arabian-travel-market-dubai-2026/
LOCATION:Dubai World Trade Centre (DWTC)\, Dubai\, United Arab Emirates
ATTACH;FMTTYPE=image/webp:https://fatahexhibit.com/wp-content/uploads/2026/03/Arabian-Travel-Market.webp
END:VEVENT
END:VCALENDAR