BEGIN:VCALENDAR
VERSION:2.0
PRODID:-//Your Exhibition Partner - ECPv6.15.19//NONSGML v1.0//EN
CALSCALE:GREGORIAN
METHOD:PUBLISH
X-WR-CALNAME:Your Exhibition Partner
X-ORIGINAL-URL:https://fatahexhibit.com
X-WR-CALDESC:Events for Your Exhibition Partner
REFRESH-INTERVAL;VALUE=DURATION:PT1H
X-Robots-Tag:noindex
X-PUBLISHED-TTL:PT1H
BEGIN:VTIMEZONE
TZID:Asia/Qatar
BEGIN:STANDARD
TZOFFSETFROM:+0300
TZOFFSETTO:+0300
TZNAME:+03
DTSTART:20250101T000000
END:STANDARD
END:VTIMEZONE
BEGIN:VEVENT
DTSTART;VALUE=DATE:20261110
DTEND;VALUE=DATE:20261113
DTSTAMP:20260421T001019
CREATED:20260313T173853Z
LAST-MODIFIED:20260325T084758Z
UID:1065-1794268800-1794527999@fatahexhibit.com
SUMMARY:World Vape Show Dubai
DESCRIPTION:The World Vape Show Dubai 2026 is one of the most anticipated events in the vaping industry. It brings together the world’s top manufacturers\, brands\, and buyers under one umbrella. For companies that plan to display their products\, a stylish\, practical booth is vital. \nIn large shows such as those at the World Vape Show\, first impressions count. A properly planned display stand will instantly draw the attention of visitors and inspire them to investigate your brand. Fatah Exhibit focuses on designing stands that are not just attractive but also functional for meetings\, product displays and storytelling about your brand. We are a reputable exhibition stand builder in Dubai\, helping companies establish a presence on the exhibition floor. \nWe understand that every brand has its own unique character. Their team collaborates closely with exhibitors to determine their objectives and the target customers before creating a unique stand design. From innovative layouts to lighting\, each aspect is planned to ensure that your booth stands out in a competitive market. \nThe World Vape Show attracts thousands of attendees who include distributors\, retailers\, and industry experts. A creative display stand will help brands connect with the right crowd and communicate their worth\, and leave an impression. \nWith a focus on creativity\, high-quality\, reliable support\, Fatah Exhibit continues to assist brands that want to stand out at international shows. For businesses that plan to exhibit at the World Vape Show Dubai 2026\, it is important to partner with the best stand maker can be the key to success. Fatah Exhibit is here to assist you in bringing your ideas to the forefront. \nJoin us to experience the most dynamic and influential vape show in the world. \nContact Us
URL:https://fatahexhibit.com/event/world-vape-show-dubai-2026/
LOCATION:Dubai World Trade Centre (DWTC)\, Dubai\, United Arab Emirates
ATTACH;FMTTYPE=image/webp:https://fatahexhibit.com/wp-content/uploads/2026/03/vape-show.webp
END:VEVENT
END:VCALENDAR