BEGIN:VCALENDAR
VERSION:2.0
PRODID:-//Your Exhibition Partner - ECPv6.15.19//NONSGML v1.0//EN
CALSCALE:GREGORIAN
METHOD:PUBLISH
X-WR-CALNAME:Your Exhibition Partner
X-ORIGINAL-URL:https://fatahexhibit.com
X-WR-CALDESC:Events for Your Exhibition Partner
REFRESH-INTERVAL;VALUE=DURATION:PT1H
X-Robots-Tag:noindex
X-PUBLISHED-TTL:PT1H
BEGIN:VTIMEZONE
TZID:Asia/Qatar
BEGIN:STANDARD
TZOFFSETFROM:+0300
TZOFFSETTO:+0300
TZNAME:+03
DTSTART:20240101T000000
END:STANDARD
END:VTIMEZONE
BEGIN:VEVENT
DTSTART;VALUE=DATE:20250114
DTEND;VALUE=DATE:20250117
DTSTAMP:20260422T052336
CREATED:20250124T094232Z
LAST-MODIFIED:20250124T094232Z
UID:588-1736812800-1737071999@fatahexhibit.com
SUMMARY:Light + Intelligent Building Middle East
DESCRIPTION:
URL:https://fatahexhibit.com/event/light-intelligent-building-middle-east/
END:VEVENT
BEGIN:VEVENT
DTSTART;VALUE=DATE:20250114
DTEND;VALUE=DATE:20250117
DTSTAMP:20260422T052336
CREATED:20250124T094154Z
LAST-MODIFIED:20250124T094154Z
UID:586-1736812800-1737071999@fatahexhibit.com
SUMMARY:Intersec Exhibition
DESCRIPTION:
URL:https://fatahexhibit.com/event/intersec-exhibition/
END:VEVENT
BEGIN:VEVENT
DTSTART;VALUE=DATE:20250113
DTEND;VALUE=DATE:20250118
DTSTAMP:20260422T052336
CREATED:20250124T094103Z
LAST-MODIFIED:20250124T094103Z
UID:584-1736726400-1737158399@fatahexhibit.com
SUMMARY:Concept Big Brands Carnival - CBBC
DESCRIPTION:
URL:https://fatahexhibit.com/event/concept-big-brands-carnival-cbbc/
END:VEVENT
BEGIN:VEVENT
DTSTART;VALUE=DATE:20250107
DTEND;VALUE=DATE:20250110
DTSTAMP:20260422T052336
CREATED:20250124T094011Z
LAST-MODIFIED:20250124T094011Z
UID:582-1736208000-1736467199@fatahexhibit.com
SUMMARY:Dubai International Pharmaceuticals and Technologies Conference and Exhibition - DUPHAT
DESCRIPTION:
URL:https://fatahexhibit.com/event/dubai-international-pharmaceuticals-and-technologies-conference-and-exhibition-duphat/
END:VEVENT
BEGIN:VEVENT
DTSTART;VALUE=DATE:20250107
DTEND;VALUE=DATE:20250110
DTSTAMP:20260422T052336
CREATED:20250124T093401Z
LAST-MODIFIED:20250124T093401Z
UID:573-1736208000-1736467199@fatahexhibit.com
SUMMARY:Arabplast
DESCRIPTION:Industrial and Manufacturing
URL:https://fatahexhibit.com/event/arabplast/
END:VEVENT
END:VCALENDAR