BEGIN:VCALENDAR
VERSION:2.0
PRODID:-//Your Exhibition Partner - ECPv6.15.19//NONSGML v1.0//EN
CALSCALE:GREGORIAN
METHOD:PUBLISH
X-ORIGINAL-URL:https://fatahexhibit.com
X-WR-CALDESC:Events for Your Exhibition Partner
REFRESH-INTERVAL;VALUE=DURATION:PT1H
X-Robots-Tag:noindex
X-PUBLISHED-TTL:PT1H
BEGIN:VTIMEZONE
TZID:Asia/Qatar
BEGIN:STANDARD
TZOFFSETFROM:+0300
TZOFFSETTO:+0300
TZNAME:+03
DTSTART:20240101T000000
END:STANDARD
END:VTIMEZONE
BEGIN:VEVENT
DTSTART;VALUE=DATE:20250925
DTEND;VALUE=DATE:20250928
DTSTAMP:20260420T211835
CREATED:20250127T113932Z
LAST-MODIFIED:20250127T113932Z
UID:749-1758758400-1759017599@fatahexhibit.com
SUMMARY:MEIDAM 2025 - 10th International Congress of Medical Excellence in Dermatology & Aesthetic Medicine
DESCRIPTION:
URL:https://fatahexhibit.com/event/meidam-2025-10th-international-congress-of-medical-excellence-in-dermatology-aesthetic-medicine/
END:VEVENT
BEGIN:VEVENT
DTSTART;VALUE=DATE:20250924
DTEND;VALUE=DATE:20250926
DTSTAMP:20260420T211835
CREATED:20250127T105536Z
LAST-MODIFIED:20250127T105536Z
UID:747-1758672000-1758844799@fatahexhibit.com
SUMMARY:Dubai Congress for Self-Driving Transport 2025
DESCRIPTION:
URL:https://fatahexhibit.com/event/dubai-congress-for-self-driving-transport-2025/
END:VEVENT
BEGIN:VEVENT
DTSTART;VALUE=DATE:20250923
DTEND;VALUE=DATE:20250926
DTSTAMP:20260420T211835
CREATED:20250127T105452Z
LAST-MODIFIED:20250127T105452Z
UID:745-1758585600-1758844799@fatahexhibit.com
SUMMARY:ArabLab +
DESCRIPTION:
URL:https://fatahexhibit.com/event/arablab/
END:VEVENT
BEGIN:VEVENT
DTSTART;VALUE=DATE:20250923
DTEND;VALUE=DATE:20250926
DTSTAMP:20260420T211835
CREATED:20250127T105418Z
LAST-MODIFIED:20250127T105418Z
UID:743-1758585600-1758844799@fatahexhibit.com
SUMMARY:Ru'ya (Careers UAE)
DESCRIPTION:
URL:https://fatahexhibit.com/event/ruya-careers-uae/
END:VEVENT
BEGIN:VEVENT
DTSTART;VALUE=DATE:20250922
DTEND;VALUE=DATE:20250925
DTSTAMP:20260420T211835
CREATED:20250127T105345Z
LAST-MODIFIED:20250127T105345Z
UID:741-1758499200-1758758399@fatahexhibit.com
SUMMARY:Sign & Graphic Imaging M.E. Exhibition
DESCRIPTION:
URL:https://fatahexhibit.com/event/sign-graphic-imaging-m-e-exhibition/
END:VEVENT
BEGIN:VEVENT
DTSTART;VALUE=DATE:20250915
DTEND;VALUE=DATE:20250918
DTSTAMP:20260420T211835
CREATED:20250127T105311Z
LAST-MODIFIED:20250127T105311Z
UID:739-1757894400-1758153599@fatahexhibit.com
SUMMARY:Plastics Recycling Show Middle East
DESCRIPTION:
URL:https://fatahexhibit.com/event/plastics-recycling-show-middle-east/
END:VEVENT
BEGIN:VEVENT
DTSTART;VALUE=DATE:20250915
DTEND;VALUE=DATE:20250918
DTSTAMP:20260420T211835
CREATED:20250127T105240Z
LAST-MODIFIED:20250127T105240Z
UID:737-1757894400-1758153599@fatahexhibit.com
SUMMARY:Furniture Manufacturing Expo
DESCRIPTION:
URL:https://fatahexhibit.com/event/furniture-manufacturing-expo/
END:VEVENT
BEGIN:VEVENT
DTSTART;VALUE=DATE:20250915
DTEND;VALUE=DATE:20250918
DTSTAMP:20260420T211835
CREATED:20250127T105201Z
LAST-MODIFIED:20250127T105201Z
UID:735-1757894400-1758153599@fatahexhibit.com
SUMMARY:Sleep Expo
DESCRIPTION:
URL:https://fatahexhibit.com/event/sleep-expo/
END:VEVENT
BEGIN:VEVENT
DTSTART;VALUE=DATE:20250915
DTEND;VALUE=DATE:20250918
DTSTAMP:20260420T211835
CREATED:20250127T105128Z
LAST-MODIFIED:20250127T105128Z
UID:733-1757894400-1758153599@fatahexhibit.com
SUMMARY:Base Oils\, Lubricants and Additives Technology Exhibition
DESCRIPTION:
URL:https://fatahexhibit.com/event/base-oils-lubricants-and-additives-technology-exhibition/
END:VEVENT
BEGIN:VEVENT
DTSTART;VALUE=DATE:20250915
DTEND;VALUE=DATE:20250918
DTSTAMP:20260420T211835
CREATED:20250127T105056Z
LAST-MODIFIED:20250127T105056Z
UID:731-1757894400-1758153599@fatahexhibit.com
SUMMARY:Middle East Foam & Polyurethane Expo & Adhesives Sealants and Bonding Expo Middle East
DESCRIPTION:
URL:https://fatahexhibit.com/event/middle-east-foam-polyurethane-expo-adhesives-sealants-and-bonding-expo-middle-east/
END:VEVENT
BEGIN:VEVENT
DTSTART;VALUE=DATE:20250915
DTEND;VALUE=DATE:20250918
DTSTAMP:20260420T211835
CREATED:20250127T105028Z
LAST-MODIFIED:20250127T105028Z
UID:729-1757894400-1758153599@fatahexhibit.com
SUMMARY:Private Label Middle East
DESCRIPTION:
URL:https://fatahexhibit.com/event/private-label-middle-east/
END:VEVENT
BEGIN:VEVENT
DTSTART;VALUE=DATE:20250915
DTEND;VALUE=DATE:20250918
DTSTAMP:20260420T211835
CREATED:20250127T104956Z
LAST-MODIFIED:20250127T104956Z
UID:727-1757894400-1758153599@fatahexhibit.com
SUMMARY:ISM Middle East
DESCRIPTION:
URL:https://fatahexhibit.com/event/ism-middle-east/
END:VEVENT
BEGIN:VEVENT
DTSTART;VALUE=DATE:20250915
DTEND;VALUE=DATE:20250918
DTSTAMP:20260420T211835
CREATED:20250127T104921Z
LAST-MODIFIED:20250127T104921Z
UID:725-1757894400-1758153599@fatahexhibit.com
SUMMARY:Middle East Composites & Advanced Materials Expo
DESCRIPTION:
URL:https://fatahexhibit.com/event/middle-east-composites-advanced-materials-expo/
END:VEVENT
BEGIN:VEVENT
DTSTART;VALUE=DATE:20250908
DTEND;VALUE=DATE:20250919
DTSTAMP:20260420T211835
CREATED:20250127T100156Z
LAST-MODIFIED:20250127T100156Z
UID:721-1757289600-1758239999@fatahexhibit.com
SUMMARY:Universal Postal Union Congress Dubai 2025
DESCRIPTION:
URL:https://fatahexhibit.com/event/universal-postal-union-congress-dubai-2025/
END:VEVENT
BEGIN:VEVENT
DTSTART;VALUE=DATE:20250908
DTEND;VALUE=DATE:20250911
DTSTAMP:20260420T211835
CREATED:20250127T100302Z
LAST-MODIFIED:20250127T100302Z
UID:723-1757289600-1757548799@fatahexhibit.com
SUMMARY:Brands of India
DESCRIPTION:
URL:https://fatahexhibit.com/event/brands-of-india/
END:VEVENT
BEGIN:VEVENT
DTSTART;VALUE=DATE:20250902
DTEND;VALUE=DATE:20250905
DTSTAMP:20260420T211835
CREATED:20250127T100118Z
LAST-MODIFIED:20250127T100118Z
UID:719-1756771200-1757030399@fatahexhibit.com
SUMMARY:Paper Arabia
DESCRIPTION:
URL:https://fatahexhibit.com/event/paper-arabia/
END:VEVENT
BEGIN:VEVENT
DTSTART;VALUE=DATE:20250901
DTEND;VALUE=DATE:20250904
DTSTAMP:20260420T211835
CREATED:20250127T100032Z
LAST-MODIFIED:20250127T100032Z
UID:717-1756684800-1756943999@fatahexhibit.com
SUMMARY:Digital Health
DESCRIPTION:
URL:https://fatahexhibit.com/event/digital-health/
END:VEVENT
BEGIN:VEVENT
DTSTART;VALUE=DATE:20250828
DTEND;VALUE=DATE:20250901
DTSTAMP:20260420T211835
CREATED:20250127T100000Z
LAST-MODIFIED:20250127T100000Z
UID:715-1756339200-1756684799@fatahexhibit.com
SUMMARY:Jewellery & Bride Arabia
DESCRIPTION:
URL:https://fatahexhibit.com/event/jewellery-bride-arabia/
END:VEVENT
BEGIN:VEVENT
DTSTART;VALUE=DATE:20250817
DTEND;VALUE=DATE:20250826
DTSTAMP:20260420T211835
CREATED:20250127T095910Z
LAST-MODIFIED:20250127T095910Z
UID:713-1755388800-1756166399@fatahexhibit.com
SUMMARY:The Carpet Show
DESCRIPTION:
URL:https://fatahexhibit.com/event/the-carpet-show/
END:VEVENT
BEGIN:VEVENT
DTSTART;VALUE=DATE:20250624
DTEND;VALUE=DATE:20250626
DTSTAMP:20260420T211835
CREATED:20250127T095820Z
LAST-MODIFIED:20250127T095820Z
UID:711-1750723200-1750895999@fatahexhibit.com
SUMMARY:Solar & Storage Live
DESCRIPTION:
URL:https://fatahexhibit.com/event/solar-storage-live/
END:VEVENT
BEGIN:VEVENT
DTSTART;VALUE=DATE:20250624
DTEND;VALUE=DATE:20250626
DTSTAMP:20260420T211835
CREATED:20250127T095746Z
LAST-MODIFIED:20250127T095746Z
UID:709-1750723200-1750895999@fatahexhibit.com
SUMMARY:Mobility Live Middle East
DESCRIPTION:
URL:https://fatahexhibit.com/event/mobility-live-middle-east/
END:VEVENT
BEGIN:VEVENT
DTSTART;VALUE=DATE:20250624
DTEND;VALUE=DATE:20250626
DTSTAMP:20260420T211835
CREATED:20250127T095715Z
LAST-MODIFIED:20250127T095715Z
UID:707-1750723200-1750895999@fatahexhibit.com
SUMMARY:Middle East Rail
DESCRIPTION:
URL:https://fatahexhibit.com/event/middle-east-rail/
END:VEVENT
BEGIN:VEVENT
DTSTART;VALUE=DATE:20250618
DTEND;VALUE=DATE:20250621
DTSTAMP:20260420T211835
CREATED:20250127T094856Z
LAST-MODIFIED:20250127T094856Z
UID:703-1750204800-1750463999@fatahexhibit.com
SUMMARY:World Vape Show
DESCRIPTION:
URL:https://fatahexhibit.com/event/world-vape-show/
END:VEVENT
BEGIN:VEVENT
DTSTART;VALUE=DATE:20250618
DTEND;VALUE=DATE:20250620
DTSTAMP:20260420T211835
CREATED:20250127T095640Z
LAST-MODIFIED:20250127T095640Z
UID:705-1750204800-1750377599@fatahexhibit.com
SUMMARY:Middle East Event Show
DESCRIPTION:
URL:https://fatahexhibit.com/event/middle-east-event-show/
END:VEVENT
BEGIN:VEVENT
DTSTART;VALUE=DATE:20250611
DTEND;VALUE=DATE:20250614
DTSTAMP:20260420T211835
CREATED:20250127T094826Z
LAST-MODIFIED:20250127T094826Z
UID:701-1749600000-1749859199@fatahexhibit.com
SUMMARY:International Appliance and Electronics Show
DESCRIPTION:
URL:https://fatahexhibit.com/event/international-appliance-and-electronics-show/
END:VEVENT
BEGIN:VEVENT
DTSTART;VALUE=DATE:20250611
DTEND;VALUE=DATE:20250614
DTSTAMP:20260420T211835
CREATED:20250127T094745Z
LAST-MODIFIED:20250127T094745Z
UID:699-1749600000-1749859199@fatahexhibit.com
SUMMARY:China Home Life
DESCRIPTION:
URL:https://fatahexhibit.com/event/china-home-life/
END:VEVENT
BEGIN:VEVENT
DTSTART;VALUE=DATE:20250527
DTEND;VALUE=DATE:20250531
DTSTAMP:20260420T211835
CREATED:20250127T094618Z
LAST-MODIFIED:20250127T094618Z
UID:695-1748304000-1748649599@fatahexhibit.com
SUMMARY:Index Exhibition
DESCRIPTION:
URL:https://fatahexhibit.com/event/index-exhibition/
END:VEVENT
BEGIN:VEVENT
DTSTART;VALUE=DATE:20250527
DTEND;VALUE=DATE:20250530
DTSTAMP:20260420T211835
CREATED:20250127T094654Z
LAST-MODIFIED:20250127T094654Z
UID:697-1748304000-1748563199@fatahexhibit.com
SUMMARY:The Hotel Show
DESCRIPTION:
URL:https://fatahexhibit.com/event/the-hotel-show/
END:VEVENT
BEGIN:VEVENT
DTSTART;VALUE=DATE:20250521
DTEND;VALUE=DATE:20250523
DTSTAMP:20260420T211835
CREATED:20250127T094512Z
LAST-MODIFIED:20250127T094512Z
UID:691-1747785600-1747958399@fatahexhibit.com
SUMMARY:Crypto Expo
DESCRIPTION:
URL:https://fatahexhibit.com/event/crypto-expo/
END:VEVENT
BEGIN:VEVENT
DTSTART;VALUE=DATE:20250521
DTEND;VALUE=DATE:20250522
DTSTAMP:20260420T211835
CREATED:20250127T094545Z
LAST-MODIFIED:20250127T094545Z
UID:693-1747785600-1747871999@fatahexhibit.com
SUMMARY:AWS MENA Summit 2025
DESCRIPTION:
URL:https://fatahexhibit.com/event/aws-mena-summit-2025/
END:VEVENT
END:VCALENDAR