BEGIN:VCALENDAR
VERSION:2.0
PRODID:-//Your Exhibition Partner - ECPv6.15.19//NONSGML v1.0//EN
CALSCALE:GREGORIAN
METHOD:PUBLISH
X-ORIGINAL-URL:https://fatahexhibit.com
X-WR-CALDESC:Events for Your Exhibition Partner
REFRESH-INTERVAL;VALUE=DURATION:PT1H
X-Robots-Tag:noindex
X-PUBLISHED-TTL:PT1H
BEGIN:VTIMEZONE
TZID:Asia/Qatar
BEGIN:STANDARD
TZOFFSETFROM:+0300
TZOFFSETTO:+0300
TZNAME:+03
DTSTART:20240101T000000
END:STANDARD
END:VTIMEZONE
BEGIN:VEVENT
DTSTART;VALUE=DATE:20250520
DTEND;VALUE=DATE:20250523
DTSTAMP:20260421T023516
CREATED:20250127T094437Z
LAST-MODIFIED:20250127T094437Z
UID:689-1747699200-1747958399@fatahexhibit.com
SUMMARY:Seamless Middle East
DESCRIPTION:
URL:https://fatahexhibit.com/event/seamless-middle-east/
END:VEVENT
BEGIN:VEVENT
DTSTART;VALUE=DATE:20250516
DTEND;VALUE=DATE:20250518
DTSTAMP:20260421T023516
CREATED:20250127T094403Z
LAST-MODIFIED:20250127T094403Z
UID:687-1747353600-1747526399@fatahexhibit.com
SUMMARY:The Baby Expo
DESCRIPTION:
URL:https://fatahexhibit.com/event/the-baby-expo/
END:VEVENT
BEGIN:VEVENT
DTSTART;VALUE=DATE:20250515
DTEND;VALUE=DATE:20250520
DTSTAMP:20260421T023516
CREATED:20250127T094329Z
LAST-MODIFIED:20250127T094329Z
UID:685-1747267200-1747699199@fatahexhibit.com
SUMMARY:Acres Real Estate Exhibition
DESCRIPTION:
URL:https://fatahexhibit.com/event/acres-real-estate-exhibition/
END:VEVENT
BEGIN:VEVENT
DTSTART;VALUE=DATE:20250515
DTEND;VALUE=DATE:20250519
DTSTAMP:20260421T023516
CREATED:20250127T094253Z
LAST-MODIFIED:20250127T094253Z
UID:683-1747267200-1747612799@fatahexhibit.com
SUMMARY:Decobuild
DESCRIPTION:
URL:https://fatahexhibit.com/event/decobuild/
END:VEVENT
BEGIN:VEVENT
DTSTART;VALUE=DATE:20250513
DTEND;VALUE=DATE:20250516
DTSTAMP:20260421T023516
CREATED:20250127T094212Z
LAST-MODIFIED:20250127T094212Z
UID:681-1747094400-1747353599@fatahexhibit.com
SUMMARY:SatExpo
DESCRIPTION:
URL:https://fatahexhibit.com/event/satexpo/
END:VEVENT
BEGIN:VEVENT
DTSTART;VALUE=DATE:20250513
DTEND;VALUE=DATE:20250516
DTSTAMP:20260421T023516
CREATED:20250127T094138Z
LAST-MODIFIED:20250127T094138Z
UID:679-1747094400-1747353599@fatahexhibit.com
SUMMARY:Integrate Middle East 2025
DESCRIPTION:
URL:https://fatahexhibit.com/event/integrate-middle-east-2025/
END:VEVENT
BEGIN:VEVENT
DTSTART;VALUE=DATE:20250513
DTEND;VALUE=DATE:20250516
DTSTAMP:20260421T023516
CREATED:20250127T094105Z
LAST-MODIFIED:20250127T094105Z
UID:677-1747094400-1747353599@fatahexhibit.com
SUMMARY:CABSAT
DESCRIPTION:
URL:https://fatahexhibit.com/event/cabsat/
END:VEVENT
BEGIN:VEVENT
DTSTART;VALUE=DATE:20250513
DTEND;VALUE=DATE:20250516
DTSTAMP:20260421T023516
CREATED:20250127T094026Z
LAST-MODIFIED:20250127T094026Z
UID:675-1747094400-1747353599@fatahexhibit.com
SUMMARY:World Police Summit 2025
DESCRIPTION:
URL:https://fatahexhibit.com/event/world-police-summit-2025/
END:VEVENT
BEGIN:VEVENT
DTSTART;VALUE=DATE:20250509
DTEND;VALUE=DATE:20250511
DTSTAMP:20260421T023516
CREATED:20250127T093952Z
LAST-MODIFIED:20250127T093952Z
UID:673-1746748800-1746921599@fatahexhibit.com
SUMMARY:International Restorative and Implant Symposium (IRIS) 2025
DESCRIPTION:
URL:https://fatahexhibit.com/event/international-restorative-and-implant-symposium-iris-2025/
END:VEVENT
BEGIN:VEVENT
DTSTART;VALUE=DATE:20250507
DTEND;VALUE=DATE:20250512
DTSTAMP:20260421T023516
CREATED:20250127T093917Z
LAST-MODIFIED:20250127T093917Z
UID:671-1746576000-1747007999@fatahexhibit.com
SUMMARY:Game Expo 2025
DESCRIPTION:
URL:https://fatahexhibit.com/event/game-expo-2025/
END:VEVENT
BEGIN:VEVENT
DTSTART;VALUE=DATE:20250507
DTEND;VALUE=DATE:20250512
DTSTAMP:20260421T023516
CREATED:20250127T093849Z
LAST-MODIFIED:20250127T093849Z
UID:669-1746576000-1747007999@fatahexhibit.com
SUMMARY:Majid Al Futtaim Lifestyle Bazaar
DESCRIPTION:
URL:https://fatahexhibit.com/event/majid-al-futtaim-lifestyle-bazaar/
END:VEVENT
BEGIN:VEVENT
DTSTART;VALUE=DATE:20250506
DTEND;VALUE=DATE:20250509
DTSTAMP:20260421T023516
CREATED:20250127T093815Z
LAST-MODIFIED:20250127T093815Z
UID:667-1746489600-1746748799@fatahexhibit.com
SUMMARY:GISEC GLOBAL
DESCRIPTION:
URL:https://fatahexhibit.com/event/gisec-global/
END:VEVENT
BEGIN:VEVENT
DTSTART;VALUE=DATE:20250506
DTEND;VALUE=DATE:20250509
DTSTAMP:20260421T023516
CREATED:20250127T093745Z
LAST-MODIFIED:20250127T093745Z
UID:665-1746489600-1746748799@fatahexhibit.com
SUMMARY:Seatrade Maritime
DESCRIPTION:
URL:https://fatahexhibit.com/event/seatrade-maritime/
END:VEVENT
BEGIN:VEVENT
DTSTART;VALUE=DATE:20250506
DTEND;VALUE=DATE:20250509
DTSTAMP:20260421T023516
CREATED:20250127T093712Z
LAST-MODIFIED:20250127T093712Z
UID:663-1746489600-1746748799@fatahexhibit.com
SUMMARY:Airport Show & Global Airport Leaders Forum
DESCRIPTION:
URL:https://fatahexhibit.com/event/airport-show-global-airport-leaders-forum/
END:VEVENT
BEGIN:VEVENT
DTSTART;VALUE=DATE:20250429
DTEND;VALUE=DATE:20250502
DTSTAMP:20260421T023516
CREATED:20250127T093517Z
LAST-MODIFIED:20250127T093517Z
UID:659-1745884800-1746143999@fatahexhibit.com
SUMMARY:The International Emergency and Catastrophe Management Conference and Exhibition
DESCRIPTION:
URL:https://fatahexhibit.com/event/the-international-emergency-and-catastrophe-management-conference-and-exhibition/
END:VEVENT
BEGIN:VEVENT
DTSTART;VALUE=DATE:20250429
DTEND;VALUE=DATE:20250502
DTSTAMP:20260421T023516
CREATED:20250127T092820Z
LAST-MODIFIED:20250127T092820Z
UID:657-1745884800-1746143999@fatahexhibit.com
SUMMARY:Dubai International Humanitarian Aid & Development Conference & Exhibition (DIHAD)
DESCRIPTION:
URL:https://fatahexhibit.com/event/dubai-international-humanitarian-aid-development-conference-exhibition-dihad/
END:VEVENT
BEGIN:VEVENT
DTSTART;VALUE=DATE:20250428
DTEND;VALUE=DATE:20250502
DTSTAMP:20260421T023516
CREATED:20250127T092742Z
LAST-MODIFIED:20250127T092742Z
UID:655-1745798400-1746143999@fatahexhibit.com
SUMMARY:Arabian Travel Market
DESCRIPTION:
URL:https://fatahexhibit.com/event/arabian-travel-market/
END:VEVENT
BEGIN:VEVENT
DTSTART;VALUE=DATE:20250422
DTEND;VALUE=DATE:20250425
DTSTAMP:20260421T023516
CREATED:20250127T092710Z
LAST-MODIFIED:20250127T092710Z
UID:653-1745280000-1745539199@fatahexhibit.com
SUMMARY:DOMOTEX Middle East
DESCRIPTION:
URL:https://fatahexhibit.com/event/domotex-middle-east/
END:VEVENT
BEGIN:VEVENT
DTSTART;VALUE=DATE:20250421
DTEND;VALUE=DATE:20250424
DTSTAMP:20260421T023516
CREATED:20250127T092504Z
LAST-MODIFIED:20250127T092504Z
UID:651-1745193600-1745452799@fatahexhibit.com
SUMMARY:GoTech Gas and Oil Technology Showcase & Conference 2025
DESCRIPTION:
URL:https://fatahexhibit.com/event/gotech-gas-and-oil-technology-showcase-conference-2025/
END:VEVENT
BEGIN:VEVENT
DTSTART;VALUE=DATE:20250419
DTEND;VALUE=DATE:20250421
DTSTAMP:20260421T023516
CREATED:20250127T092405Z
LAST-MODIFIED:20250127T092405Z
UID:649-1745020800-1745193599@fatahexhibit.com
SUMMARY:The School & Nursery Show
DESCRIPTION:
URL:https://fatahexhibit.com/event/the-school-nursery-show/
END:VEVENT
BEGIN:VEVENT
DTSTART;VALUE=DATE:20250419
DTEND;VALUE=DATE:20250421
DTSTAMP:20260421T023516
CREATED:20250127T092125Z
LAST-MODIFIED:20250127T092125Z
UID:647-1745020800-1745193599@fatahexhibit.com
SUMMARY:Petworld Arabia 2025
DESCRIPTION:
URL:https://fatahexhibit.com/event/petworld-arabia-2025/
END:VEVENT
BEGIN:VEVENT
DTSTART;VALUE=DATE:20250417
DTEND;VALUE=DATE:20250421
DTSTAMP:20260421T023516
CREATED:20250127T092038Z
LAST-MODIFIED:20250127T092038Z
UID:645-1744848000-1745193599@fatahexhibit.com
SUMMARY:World Art Dubai 2025
DESCRIPTION:
URL:https://fatahexhibit.com/event/world-art-dubai-2025/
END:VEVENT
BEGIN:VEVENT
DTSTART;VALUE=DATE:20250415
DTEND;VALUE=DATE:20250418
DTSTAMP:20260421T023516
CREATED:20250127T092007Z
LAST-MODIFIED:20250127T092007Z
UID:643-1744675200-1744934399@fatahexhibit.com
SUMMARY:IATA World Cargo Symposium (WCS) 2025
DESCRIPTION:
URL:https://fatahexhibit.com/event/iata-world-cargo-symposium-wcs-2025/
END:VEVENT
BEGIN:VEVENT
DTSTART;VALUE=DATE:20250414
DTEND;VALUE=DATE:20250417
DTSTAMP:20260421T023516
CREATED:20250127T084525Z
LAST-MODIFIED:20250127T084525Z
UID:640-1744588800-1744847999@fatahexhibit.com
SUMMARY:Dubai World Dermatology and Laser Conference and Exhibition - Dubai Derma
DESCRIPTION:
URL:https://fatahexhibit.com/event/dubai-world-dermatology-and-laser-conference-and-exhibition-dubai-derma/
END:VEVENT
BEGIN:VEVENT
DTSTART;VALUE=DATE:20250414
DTEND;VALUE=DATE:20250417
DTSTAMP:20260421T023516
CREATED:20250127T084446Z
LAST-MODIFIED:20250127T084446Z
UID:638-1744588800-1744847999@fatahexhibit.com
SUMMARY:International Property Show 2025
DESCRIPTION:
URL:https://fatahexhibit.com/event/international-property-show-2025/
END:VEVENT
BEGIN:VEVENT
DTSTART;VALUE=DATE:20250414
DTEND;VALUE=DATE:20250417
DTSTAMP:20260421T023516
CREATED:20250127T084413Z
LAST-MODIFIED:20250127T084413Z
UID:636-1744588800-1744847999@fatahexhibit.com
SUMMARY:Dubai International Wood & Wood Machinery Show
DESCRIPTION:
URL:https://fatahexhibit.com/event/dubai-international-wood-wood-machinery-show/
END:VEVENT
BEGIN:VEVENT
DTSTART;VALUE=DATE:20250409
DTEND;VALUE=DATE:20250413
DTSTAMP:20260421T023516
CREATED:20250127T084336Z
LAST-MODIFIED:20250127T084336Z
UID:634-1744156800-1744502399@fatahexhibit.com
SUMMARY:Pan Arab Interventional Radiology Society Annual Congress (PAIRS) 2025
DESCRIPTION:
URL:https://fatahexhibit.com/event/pan-arab-interventional-radiology-society-annual-congress-pairs-2025/
END:VEVENT
BEGIN:VEVENT
DTSTART;VALUE=DATE:20250408
DTEND;VALUE=DATE:20250411
DTSTAMP:20260421T023516
CREATED:20250127T084302Z
LAST-MODIFIED:20250127T084302Z
UID:632-1744070400-1744329599@fatahexhibit.com
SUMMARY:Dubai Entertainment\, Amusement & Leisure Expo (DEAL)
DESCRIPTION:
URL:https://fatahexhibit.com/event/dubai-entertainment-amusement-leisure-expo-deal/
END:VEVENT
BEGIN:VEVENT
DTSTART;VALUE=DATE:20250407
DTEND;VALUE=DATE:20250412
DTSTAMP:20260421T023516
CREATED:20250127T084232Z
LAST-MODIFIED:20250127T084232Z
UID:630-1743984000-1744415999@fatahexhibit.com
SUMMARY:ISPRS Geospatial Week 2025
DESCRIPTION:
URL:https://fatahexhibit.com/event/isprs-geospatial-week-2025/
END:VEVENT
BEGIN:VEVENT
DTSTART;VALUE=DATE:20250407
DTEND;VALUE=DATE:20250410
DTSTAMP:20260421T023516
CREATED:20250127T084151Z
LAST-MODIFIED:20250127T084151Z
UID:628-1743984000-1744243199@fatahexhibit.com
SUMMARY:Middle East Energy
DESCRIPTION:
URL:https://fatahexhibit.com/event/middle-east-energy/
END:VEVENT
END:VCALENDAR