BEGIN:VCALENDAR
VERSION:2.0
PRODID:-//Your Exhibition Partner - ECPv6.15.19//NONSGML v1.0//EN
CALSCALE:GREGORIAN
METHOD:PUBLISH
X-WR-CALNAME:Your Exhibition Partner
X-ORIGINAL-URL:https://fatahexhibit.com
X-WR-CALDESC:Events for Your Exhibition Partner
REFRESH-INTERVAL;VALUE=DURATION:PT1H
X-Robots-Tag:noindex
X-PUBLISHED-TTL:PT1H
BEGIN:VTIMEZONE
TZID:Asia/Qatar
BEGIN:STANDARD
TZOFFSETFROM:+0300
TZOFFSETTO:+0300
TZNAME:+03
DTSTART:20240101T000000
END:STANDARD
END:VTIMEZONE
BEGIN:VEVENT
DTSTART;VALUE=DATE:20250226
DTEND;VALUE=DATE:20250302
DTSTAMP:20260424T023130
CREATED:20250127T084023Z
LAST-MODIFIED:20250127T084023Z
UID:624-1740528000-1740873599@fatahexhibit.com
SUMMARY:WCA World 2025
DESCRIPTION:
URL:https://fatahexhibit.com/event/wca-world-2025-2/
END:VEVENT
BEGIN:VEVENT
DTSTART;VALUE=DATE:20250317
DTEND;VALUE=DATE:20250320
DTSTAMP:20260424T023130
CREATED:20250127T084107Z
LAST-MODIFIED:20250127T084107Z
UID:626-1742169600-1742428799@fatahexhibit.com
SUMMARY:Dubai International Horse Fair
DESCRIPTION:
URL:https://fatahexhibit.com/event/dubai-international-horse-fair/
END:VEVENT
END:VCALENDAR