BEGIN:VCALENDAR
VERSION:2.0
PRODID:-//Your Exhibition Partner - ECPv6.15.19//NONSGML v1.0//EN
CALSCALE:GREGORIAN
METHOD:PUBLISH
X-WR-CALNAME:Your Exhibition Partner
X-ORIGINAL-URL:https://fatahexhibit.com
X-WR-CALDESC:Events for Your Exhibition Partner
REFRESH-INTERVAL;VALUE=DURATION:PT1H
X-Robots-Tag:noindex
X-PUBLISHED-TTL:PT1H
BEGIN:VTIMEZONE
TZID:Asia/Qatar
BEGIN:STANDARD
TZOFFSETFROM:+0300
TZOFFSETTO:+0300
TZNAME:+03
DTSTART:20240101T000000
END:STANDARD
END:VTIMEZONE
BEGIN:VEVENT
DTSTART;VALUE=DATE:20250611
DTEND;VALUE=DATE:20250614
DTSTAMP:20260423T215752
CREATED:20250127T094745Z
LAST-MODIFIED:20250127T094745Z
UID:699-1749600000-1749859199@fatahexhibit.com
SUMMARY:China Home Life
DESCRIPTION:
URL:https://fatahexhibit.com/event/china-home-life/
END:VEVENT
BEGIN:VEVENT
DTSTART;VALUE=DATE:20250611
DTEND;VALUE=DATE:20250614
DTSTAMP:20260423T215752
CREATED:20250127T094826Z
LAST-MODIFIED:20250127T094826Z
UID:701-1749600000-1749859199@fatahexhibit.com
SUMMARY:International Appliance and Electronics Show
DESCRIPTION:
URL:https://fatahexhibit.com/event/international-appliance-and-electronics-show/
END:VEVENT
BEGIN:VEVENT
DTSTART;VALUE=DATE:20250618
DTEND;VALUE=DATE:20250620
DTSTAMP:20260423T215752
CREATED:20250127T095640Z
LAST-MODIFIED:20250127T095640Z
UID:705-1750204800-1750377599@fatahexhibit.com
SUMMARY:Middle East Event Show
DESCRIPTION:
URL:https://fatahexhibit.com/event/middle-east-event-show/
END:VEVENT
BEGIN:VEVENT
DTSTART;VALUE=DATE:20250618
DTEND;VALUE=DATE:20250621
DTSTAMP:20260423T215752
CREATED:20250127T094856Z
LAST-MODIFIED:20250127T094856Z
UID:703-1750204800-1750463999@fatahexhibit.com
SUMMARY:World Vape Show
DESCRIPTION:
URL:https://fatahexhibit.com/event/world-vape-show/
END:VEVENT
BEGIN:VEVENT
DTSTART;VALUE=DATE:20250624
DTEND;VALUE=DATE:20250626
DTSTAMP:20260423T215752
CREATED:20250127T095715Z
LAST-MODIFIED:20250127T095715Z
UID:707-1750723200-1750895999@fatahexhibit.com
SUMMARY:Middle East Rail
DESCRIPTION:
URL:https://fatahexhibit.com/event/middle-east-rail/
END:VEVENT
BEGIN:VEVENT
DTSTART;VALUE=DATE:20250624
DTEND;VALUE=DATE:20250626
DTSTAMP:20260423T215752
CREATED:20250127T095746Z
LAST-MODIFIED:20250127T095746Z
UID:709-1750723200-1750895999@fatahexhibit.com
SUMMARY:Mobility Live Middle East
DESCRIPTION:
URL:https://fatahexhibit.com/event/mobility-live-middle-east/
END:VEVENT
BEGIN:VEVENT
DTSTART;VALUE=DATE:20250624
DTEND;VALUE=DATE:20250626
DTSTAMP:20260423T215752
CREATED:20250127T095820Z
LAST-MODIFIED:20250127T095820Z
UID:711-1750723200-1750895999@fatahexhibit.com
SUMMARY:Solar & Storage Live
DESCRIPTION:
URL:https://fatahexhibit.com/event/solar-storage-live/
END:VEVENT
END:VCALENDAR