BEGIN:VCALENDAR
VERSION:2.0
PRODID:-//Your Exhibition Partner - ECPv6.15.19//NONSGML v1.0//EN
CALSCALE:GREGORIAN
METHOD:PUBLISH
X-WR-CALNAME:Your Exhibition Partner
X-ORIGINAL-URL:https://fatahexhibit.com
X-WR-CALDESC:Events for Your Exhibition Partner
REFRESH-INTERVAL;VALUE=DURATION:PT1H
X-Robots-Tag:noindex
X-PUBLISHED-TTL:PT1H
BEGIN:VTIMEZONE
TZID:Asia/Qatar
BEGIN:STANDARD
TZOFFSETFROM:+0300
TZOFFSETTO:+0300
TZNAME:+03
DTSTART:20240101T000000
END:STANDARD
END:VTIMEZONE
BEGIN:VEVENT
DTSTART;VALUE=DATE:20250930
DTEND;VALUE=DATE:20251003
DTSTAMP:20260421T070150
CREATED:20250127T114010Z
LAST-MODIFIED:20250127T114010Z
UID:751-1759190400-1759449599@fatahexhibit.com
SUMMARY:Water\, Energy\, Technology\, and Environment Exhibition (WETEX)
DESCRIPTION:
URL:https://fatahexhibit.com/event/water-energy-technology-and-environment-exhibition-wetex/
END:VEVENT
BEGIN:VEVENT
DTSTART;VALUE=DATE:20251001
DTEND;VALUE=DATE:20251003
DTSTAMP:20260421T070150
CREATED:20250127T114044Z
LAST-MODIFIED:20250127T114044Z
UID:753-1759276800-1759449599@fatahexhibit.com
SUMMARY:World Green Economy Summit
DESCRIPTION:
URL:https://fatahexhibit.com/event/world-green-economy-summit/
END:VEVENT
BEGIN:VEVENT
DTSTART;VALUE=DATE:20251005
DTEND;VALUE=DATE:20251007
DTSTAMP:20260421T070150
CREATED:20250127T114224Z
LAST-MODIFIED:20250127T114224Z
UID:757-1759622400-1759795199@fatahexhibit.com
SUMMARY:The School & Nursery Show
DESCRIPTION:
URL:https://fatahexhibit.com/event/the-school-nursery-show-2/
END:VEVENT
BEGIN:VEVENT
DTSTART;VALUE=DATE:20251005
DTEND;VALUE=DATE:20251008
DTSTAMP:20260421T070150
CREATED:20250127T114123Z
LAST-MODIFIED:20250127T114123Z
UID:755-1759622400-1759881599@fatahexhibit.com
SUMMARY:Najah Exhibition
DESCRIPTION:
URL:https://fatahexhibit.com/event/najah-exhibition/
END:VEVENT
BEGIN:VEVENT
DTSTART;VALUE=DATE:20251006
DTEND;VALUE=DATE:20251008
DTSTAMP:20260421T070150
CREATED:20250127T114335Z
LAST-MODIFIED:20250127T114335Z
UID:761-1759708800-1759881599@fatahexhibit.com
SUMMARY:AGRA Middle East
DESCRIPTION:
URL:https://fatahexhibit.com/event/agra-middle-east/
END:VEVENT
BEGIN:VEVENT
DTSTART;VALUE=DATE:20251006
DTEND;VALUE=DATE:20251008
DTSTAMP:20260421T070150
CREATED:20250127T114416Z
LAST-MODIFIED:20250127T114416Z
UID:763-1759708800-1759881599@fatahexhibit.com
SUMMARY:The Forex Expo
DESCRIPTION:
URL:https://fatahexhibit.com/event/the-forex-expo/
END:VEVENT
BEGIN:VEVENT
DTSTART;VALUE=DATE:20251006
DTEND;VALUE=DATE:20251008
DTSTAMP:20260421T070150
CREATED:20250127T114447Z
LAST-MODIFIED:20250127T114447Z
UID:765-1759708800-1759881599@fatahexhibit.com
SUMMARY:Space-Comm
DESCRIPTION:
URL:https://fatahexhibit.com/event/space-comm/
END:VEVENT
BEGIN:VEVENT
DTSTART;VALUE=DATE:20251006
DTEND;VALUE=DATE:20251009
DTSTAMP:20260421T070150
CREATED:20250127T114301Z
LAST-MODIFIED:20250127T114301Z
UID:759-1759708800-1759967999@fatahexhibit.com
SUMMARY:AccessAbilities Expo
DESCRIPTION:
URL:https://fatahexhibit.com/event/accessabilities-expo/
END:VEVENT
BEGIN:VEVENT
DTSTART;VALUE=DATE:20251013
DTEND;VALUE=DATE:20251018
DTSTAMP:20260421T070150
CREATED:20250127T114524Z
LAST-MODIFIED:20250127T114524Z
UID:767-1760313600-1760745599@fatahexhibit.com
SUMMARY:GITEX Global
DESCRIPTION:
URL:https://fatahexhibit.com/event/gitex-global/
END:VEVENT
BEGIN:VEVENT
DTSTART;VALUE=DATE:20251021
DTEND;VALUE=DATE:20251023
DTSTAMP:20260421T070150
CREATED:20250127T114808Z
LAST-MODIFIED:20250127T114808Z
UID:775-1761004800-1761177599@fatahexhibit.com
SUMMARY:HR Summit 2025
DESCRIPTION:
URL:https://fatahexhibit.com/event/hr-summit-2025/
END:VEVENT
BEGIN:VEVENT
DTSTART;VALUE=DATE:20251021
DTEND;VALUE=DATE:20251024
DTSTAMP:20260421T070150
CREATED:20250127T114613Z
LAST-MODIFIED:20250127T114613Z
UID:769-1761004800-1761263999@fatahexhibit.com
SUMMARY:The International Family Medicine Conference & Exhibition 2025
DESCRIPTION:
URL:https://fatahexhibit.com/event/the-international-family-medicine-conference-exhibition-2025/
END:VEVENT
BEGIN:VEVENT
DTSTART;VALUE=DATE:20251021
DTEND;VALUE=DATE:20251024
DTSTAMP:20260421T070150
CREATED:20250127T114641Z
LAST-MODIFIED:20250127T114641Z
UID:771-1761004800-1761263999@fatahexhibit.com
SUMMARY:Annual Radiology Meeting - ARM 2025
DESCRIPTION:
URL:https://fatahexhibit.com/event/annual-radiology-meeting-arm-2025/
END:VEVENT
BEGIN:VEVENT
DTSTART;VALUE=DATE:20251021
DTEND;VALUE=DATE:20251024
DTSTAMP:20260421T070150
CREATED:20250127T114734Z
LAST-MODIFIED:20250127T114734Z
UID:773-1761004800-1761263999@fatahexhibit.com
SUMMARY:13th Dubai Otology Neurotology and Skull Base Surgery
DESCRIPTION:
URL:https://fatahexhibit.com/event/13th-dubai-otology-neurotology-and-skull-base-surgery/
END:VEVENT
BEGIN:VEVENT
DTSTART;VALUE=DATE:20251027
DTEND;VALUE=DATE:20251030
DTSTAMP:20260421T070150
CREATED:20250127T114907Z
LAST-MODIFIED:20250127T114907Z
UID:777-1761523200-1761782399@fatahexhibit.com
SUMMARY:Beauty World Middle East and Wellness & Spa Exhibition
DESCRIPTION:
URL:https://fatahexhibit.com/event/beauty-world-middle-east-and-wellness-spa-exhibition/
END:VEVENT
END:VCALENDAR