BEGIN:VCALENDAR
VERSION:2.0
PRODID:-//Your Exhibition Partner - ECPv6.15.19//NONSGML v1.0//EN
CALSCALE:GREGORIAN
METHOD:PUBLISH
X-ORIGINAL-URL:https://fatahexhibit.com
X-WR-CALDESC:Events for Your Exhibition Partner
REFRESH-INTERVAL;VALUE=DURATION:PT1H
X-Robots-Tag:noindex
X-PUBLISHED-TTL:PT1H
BEGIN:VTIMEZONE
TZID:Asia/Qatar
BEGIN:STANDARD
TZOFFSETFROM:+0300
TZOFFSETTO:+0300
TZNAME:+03
DTSTART:20240101T000000
END:STANDARD
END:VTIMEZONE
BEGIN:VEVENT
DTSTART;VALUE=DATE:20251206
DTEND;VALUE=DATE:20251208
DTSTAMP:20260420T223433
CREATED:20250127T115759Z
LAST-MODIFIED:20250127T115759Z
UID:803-1764979200-1765151999@fatahexhibit.com
SUMMARY:Emirates Opthalmology Congress 2025
DESCRIPTION:
URL:https://fatahexhibit.com/event/emirates-opthalmology-congress-2025/
END:VEVENT
BEGIN:VEVENT
DTSTART;VALUE=DATE:20251209
DTEND;VALUE=DATE:20251212
DTSTAMP:20260420T223433
CREATED:20250127T115840Z
LAST-MODIFIED:20250127T115840Z
UID:805-1765238400-1765497599@fatahexhibit.com
SUMMARY:Automechanika Dubai
DESCRIPTION:
URL:https://fatahexhibit.com/event/automechanika-dubai/
END:VEVENT
BEGIN:VEVENT
DTSTART;VALUE=DATE:20251216
DTEND;VALUE=DATE:20251219
DTSTAMP:20260420T223433
CREATED:20250127T115913Z
LAST-MODIFIED:20250127T115913Z
UID:807-1765843200-1766102399@fatahexhibit.com
SUMMARY:Asia Baby Children Maternity Exhibition
DESCRIPTION:
URL:https://fatahexhibit.com/event/asia-baby-children-maternity-exhibition/
END:VEVENT
BEGIN:VEVENT
DTSTART;VALUE=DATE:20251216
DTEND;VALUE=DATE:20251219
DTSTAMP:20260420T223433
CREATED:20250127T115944Z
LAST-MODIFIED:20260313T172937Z
UID:809-1765843200-1766102399@fatahexhibit.com
SUMMARY:China Home Life
DESCRIPTION:
URL:https://fatahexhibit.com/event/china-home-life-2/
END:VEVENT
END:VCALENDAR